BEGIN:VCALENDAR
VERSION:2.0
PRODID:-//hacksw/handcal//NONSGML v1.0//EN
BEGIN:VEVENT
UID:f1d2cab4f9423dd004e2136abaea76c5
DTSTAMP:20260419T152538Z

DTSTART:20221129T000000
DTEND:20221129T000000
SUMMARY:Заседание совета Имамов Московской области в ноябре 
DESCRIPTION:В Москве состоялось заседание Совета улемов ДУМ РФ. Члены СУ общим открытым голосованием приняли тексты трех новых богословских заключений: «Определение начала и окончания времени поста в месяц Рамадан», «Расторжение брака в органах ЗАГС или гражданском суде по инициативе жены» и «Празднование памятной даты – 1100-летия официального принятия ислама народами Волжской Булгарии». После внесения принятых поправок тексты заключений будут опубликованы на официальном сайте ДУМ РФ.

X-ALT-DESC;FMTTYPE=text/html:<!DOCTYPE HTML PUBLIC "-//W3C//DTD HTML 3.2//EN">\n<HTML>\n<HEAD>\n<META NAME="Generator" CONTENT="MS Exchange Server version 08.00.0681.000">\n<TITLE></TITLE>\n</HEAD>\n<BODY>\n<!-- Converted from text/rtf format -->\n\nВ Москве состоялось заседание Совета улемов ДУМ РФ. Члены СУ общим открытым голосованием приняли тексты трех новых богословских заключений: «Определение начала и окончания времени поста в месяц Рамадан», «Расторжение брака в органах ЗАГС или гражданском суде по инициативе жены» и «Празднование памятной даты – 1100-летия официального принятия ислама народами Волжской Булгарии». После внесения принятых поправок тексты заключений будут опубликованы на официальном сайте ДУМ РФ.\n\n</BODY>\n</HTML>

LOCATION:
END:VEVENT

END:VCALENDAR
