BEGIN:VCALENDAR
VERSION:2.0
PRODID:-//hacksw/handcal//NONSGML v1.0//EN
BEGIN:VEVENT
UID:875e697a9765550165fa3d1ca7b9b1d7
DTSTAMP:20260419T121907Z

DTSTART:20221128T000000
DTEND:20221128T000000
SUMMARY:Совещание под председательством руководителя Администрации Президента России Антона Вайно
DESCRIPTION:Совещание под председательством руководителя Администрации Президента России Антона Вайно состоялось в формате видеоконференции. Повестка дня включала несколько вопросов, важнейший из которых – деятельность религиозных организаций Российской Федерации в период проведения специальной военной операции Вооруженных Сил РФ на Украине. С докладами по этой теме выступили председатель Синодального отдела по взаимоотношениям Церкви с обществом и СМИ Московского Патриархата Владимир Легойда и заместитель министра обороны РФ, начальник Главного военно-политического управления ВС РФ Виктор Горемыкин.\n\nВерховный муфтий Талгат Сафа Таджуддин сообщил, что силами Российского исламского университета ЦДУМ России подготовлены более 70 священнослужителей для работы в армии, и в данное время по согласованию с Главным военно-политическим управлением ВС РФ 7 групп имамов в течение двух недель будут посещать все войсковые части. Шейх-уль-Ислам подчеркнул: «Сейчас прозвучало, что 85 процентов военнослужащих – верующие. В полевой обстановке обостряется чувство духовности, поэтому ЦДУМ России с огромной ответственностью относится к этой проблеме. Мы просим, чтобы статус военных имамов как можно быстрее был по-настоящему определен, и чтобы происходила ротация священнослужителей, находящихся в зоне специальной военной операции. Также мы ведем работу не только в войсках! В наших общинах идет сбор гуманитарной помощи. На местах, особенно в приграничных с Украиной районах, организуем работу с беженцами – это и адресная помощь, и консультации, и различные формы поддержки временных переселенцев».\n\nВ ходе заседания прозвучал вопрос о том, освобождаются ли от призыва в ходе частичной мобилизации священники традиционных конфессий. Заместитель министра обороны РФ Виктор Горемыкин ответил четко: «Да! Такое решение принято».\n\nНа совещании обсуждались и другие темы: реализация Федерального закона «О передаче религиозным организациям имущества религиозного назначения, находящегося в государственной или муниципальной собственности» и деятельность образованных Советом комиссий и рабочих групп.

X-ALT-DESC;FMTTYPE=text/html:<!DOCTYPE HTML PUBLIC "-//W3C//DTD HTML 3.2//EN">\n<HTML>\n<HEAD>\n<META NAME="Generator" CONTENT="MS Exchange Server version 08.00.0681.000">\n<TITLE></TITLE>\n</HEAD>\n<BODY>\n<!-- Converted from text/rtf format -->\n\nСовещание под председательством руководителя Администрации Президента России Антона Вайно состоялось в формате видеоконференции. Повестка дня включала несколько вопросов, важнейший из которых – деятельность религиозных организаций Российской Федерации в период проведения специальной военной операции Вооруженных Сил РФ на Украине. С докладами по этой теме выступили председатель Синодального отдела по взаимоотношениям Церкви с обществом и СМИ Московского Патриархата Владимир Легойда и заместитель министра обороны РФ, начальник Главного военно-политического управления ВС РФ Виктор Горемыкин.<br /><br />Верховный муфтий Талгат Сафа Таджуддин сообщил, что силами Российского исламского университета ЦДУМ России подготовлены более 70 священнослужителей для работы в армии, и в данное время по согласованию с Главным военно-политическим управлением ВС РФ 7 групп имамов в течение двух недель будут посещать все войсковые части. Шейх-уль-Ислам подчеркнул: «Сейчас прозвучало, что 85 процентов военнослужащих – верующие. В полевой обстановке обостряется чувство духовности, поэтому ЦДУМ России с огромной ответственностью относится к этой проблеме. Мы просим, чтобы статус военных имамов как можно быстрее был по-настоящему определен, и чтобы происходила ротация священнослужителей, находящихся в зоне специальной военной операции. Также мы ведем работу не только в войсках! В наших общинах идет сбор гуманитарной помощи. На местах, особенно в приграничных с Украиной районах, организуем работу с беженцами – это и адресная помощь, и консультации, и различные формы поддержки временных переселенцев».<br /><br />В ходе заседания прозвучал вопрос о том, освобождаются ли от призыва в ходе частичной мобилизации священники традиционных конфессий. Заместитель министра обороны РФ Виктор Горемыкин ответил четко: «Да! Такое решение принято».<br /><br />На совещании обсуждались и другие темы: реализация Федерального закона «О передаче религиозным организациям имущества религиозного назначения, находящегося в государственной или муниципальной собственности» и деятельность образованных Советом комиссий и рабочих групп.\n\n</BODY>\n</HTML>

LOCATION:
END:VEVENT

END:VCALENDAR
