BEGIN:VCALENDAR
VERSION:2.0
PRODID:-//hacksw/handcal//NONSGML v1.0//EN
BEGIN:VEVENT
UID:6e60e66c5029b2dbc7846fbc45a714fc
DTSTAMP:20260419T152406Z

DTSTART:20221129T000000
DTEND:20221129T000000
SUMMARY:Заседание Совета улемов ДУМ РФ 
DESCRIPTION:В Москве состоялось заседание Совета улемов ДУМ РФ. Члены СУ общим открытым голосованием приняли тексты трех новых богословских заключений: «Определение начала и окончания времени поста в месяц Рамадан», «Расторжение брака в органах ЗАГС или гражданском суде по инициативе жены» и «Празднование памятной даты – 1100-летия официального принятия ислама народами Волжской Булгарии». После внесения принятых поправок тексты заключений будут опубликованы на официальном сайте ДУМ РФ.\n\nРабота над текстами других богословских заключений, рассматривавшихся в ходе заседания, будет продолжена.\nВ ходе заседания, помимо заслушивания докладов и их обсуждения, перед участниками заседания с лекциями посвященными, фетвотворчеству в немусульманской среде, концепции гражданства между иджтихадом ученых и требованиями времени, а также организация бухгалтерского учета и аудита исламских финансовых учреждений (ААОИФИ) выступили генеральный секретарь Всемирного совета мусульманских сообществ д-р Мухаммад Бишари и директор департамента по внедрению основных стандартов и стратегического развития Ризван Малик.\n\nСтоить отметить, что в обсуждении доклада «Расторжение брака в органах ЗАГС или гражданском суде по инициативе жены» активное участие принял специалист Высшего совета по делам религии ТР Ахмет Огуз. Он ознакомил участников заседания с практикой принятия решения в бракоразводном процессе в Турции и высказал свою позицию по заявленной теме. Впервые в принятии фетвы участвовал представитель авторитетной международной организации.

X-ALT-DESC;FMTTYPE=text/html:<!DOCTYPE HTML PUBLIC "-//W3C//DTD HTML 3.2//EN">\n<HTML>\n<HEAD>\n<META NAME="Generator" CONTENT="MS Exchange Server version 08.00.0681.000">\n<TITLE></TITLE>\n</HEAD>\n<BODY>\n<!-- Converted from text/rtf format -->\n\nВ Москве состоялось заседание Совета улемов ДУМ РФ. Члены СУ общим открытым голосованием приняли тексты трех новых богословских заключений: «Определение начала и окончания времени поста в месяц Рамадан», «Расторжение брака в органах ЗАГС или гражданском суде по инициативе жены» и «Празднование памятной даты – 1100-летия официального принятия ислама народами Волжской Булгарии». После внесения принятых поправок тексты заключений будут опубликованы на официальном сайте ДУМ РФ.<br /><br />Работа над текстами других богословских заключений, рассматривавшихся в ходе заседания, будет продолжена.<br />В ходе заседания, помимо заслушивания докладов и их обсуждения, перед участниками заседания с лекциями посвященными, фетвотворчеству в немусульманской среде, концепции гражданства между иджтихадом ученых и требованиями времени, а также организация бухгалтерского учета и аудита исламских финансовых учреждений (ААОИФИ) выступили генеральный секретарь Всемирного совета мусульманских сообществ д-р Мухаммад Бишари и директор департамента по внедрению основных стандартов и стратегического развития Ризван Малик.<br /><br />Стоить отметить, что в обсуждении доклада «Расторжение брака в органах ЗАГС или гражданском суде по инициативе жены» активное участие принял специалист Высшего совета по делам религии ТР Ахмет Огуз. Он ознакомил участников заседания с практикой принятия решения в бракоразводном процессе в Турции и высказал свою позицию по заявленной теме. Впервые в принятии фетвы участвовал представитель авторитетной международной организации.\n\n</BODY>\n</HTML>

LOCATION:
END:VEVENT

END:VCALENDAR
