BEGIN:VCALENDAR
VERSION:2.0
PRODID:-//hacksw/handcal//NONSGML v1.0//EN
BEGIN:VEVENT
UID:e7cb185f7679bffa05df7bc92562154c
DTSTAMP:20260419T134631Z

DTSTART:20221126T000000
DTEND:20221126T000000
SUMMARY:Заседание на тему «Определение начала и окончания времени поста в месяц Рамадан»
DESCRIPTION:После внесения принятых поправок тексты заключений будут опубликованы на официальном сайте ДУМ РФ.\n\nРабота над текстами других богословских заключений, рассматривавшихся в ходе заседания, будет продолжена.\nВ ходе заседания, помимо заслушивания докладов и их обсуждения, перед участниками заседания с лекциями посвященными, фетвотворчеству в немусульманской среде, концепции гражданства между иджтихадом ученых и требованиями времени, а также организация бухгалтерского учета и аудита исламских финансовых учреждений (ААОИФИ) выступили генеральный секретарь Всемирного совета мусульманских сообществ д-р Мухаммад Бишари и директор департамента по внедрению основных стандартов и стратегического развития Ризван Малик.

X-ALT-DESC;FMTTYPE=text/html:<!DOCTYPE HTML PUBLIC "-//W3C//DTD HTML 3.2//EN">\n<HTML>\n<HEAD>\n<META NAME="Generator" CONTENT="MS Exchange Server version 08.00.0681.000">\n<TITLE></TITLE>\n</HEAD>\n<BODY>\n<!-- Converted from text/rtf format -->\n\nПосле внесения принятых поправок тексты заключений будут опубликованы на официальном сайте ДУМ РФ.<br /><br />Работа над текстами других богословских заключений, рассматривавшихся в ходе заседания, будет продолжена.<br />В ходе заседания, помимо заслушивания докладов и их обсуждения, перед участниками заседания с лекциями посвященными, фетвотворчеству в немусульманской среде, концепции гражданства между иджтихадом ученых и требованиями времени, а также организация бухгалтерского учета и аудита исламских финансовых учреждений (ААОИФИ) выступили генеральный секретарь Всемирного совета мусульманских сообществ д-р Мухаммад Бишари и директор департамента по внедрению основных стандартов и стратегического развития Ризван Малик.\n\n</BODY>\n</HTML>

LOCATION:
END:VEVENT

END:VCALENDAR
