BEGIN:VCALENDAR
VERSION:2.0
PRODID:-//hacksw/handcal//NONSGML v1.0//EN
BEGIN:VEVENT
UID:493ca61791d060ffb4725ef6e1d5ce08
DTSTAMP:20260419T134727Z

DTSTART:20221130T000000
DTEND:20221130T000000
SUMMARY:«Кешбэк – между дозволенностью и запретом в исламе».. 
DESCRIPTION: в Москве начало работу очередное Заседание Совета улемов Духовного управления мусульман Российской Федерации (далее ДУМ РФ). В нем примут участие представители централизованных региональных духовных управлений, входящих в состав ДУМ РФ. По традиции работа заседания будет представлена в двух форматах: практическом и теоретическом. Так, 19 сентября для членов Совета стартовал курс повышения квалификации на тему “Основы теории и методологии исламского права (усул ал-фикх)”. Лекции в течение трех дней будет читать руководитель отдела фетв Главного управления по фетвам Египта, доктор, шейх Ахмад Мамдух. В рамках рабочей сессии члены Совета рассмотрят и примут решение по богословскому заключению «Кешбэк – между дозволенностью и запретом в исламе». С докладом на эту тему 20 сентября выступит член Совета улемов ДУМ РФ Елена (Марьям) Ковалева. Также 21 сентября запланировано обсуждение внесенных правок в фетву «Расторжение брака в органах ЗАГС или гражданском суде по инициативе жены». О ходе заседания и принятых решениях будет объявлено дополнительно. Важно отметить, что на этой неделе 22-23 сентября в Москве пройдет ежегодный Пленум Духовного управления мусульман РФ с участием муфтиев, имам-мухтасибов, председателей централизованных мусульманских организаций и местных общин из большинства регионов России. В рамках данного мероприятия также пройдут: – XV Международная теологическая научно-образовательная конференция «Чтения имени Галимджана Баруди», – I Международный симпозиум по изданию фетв в России «Институты фетв и их роль в решении социальных проблем», – Выставка Коранов «Калям Шариф – Великое наследие», – Открытие обновленного здания Московского исламского института.. 

X-ALT-DESC;FMTTYPE=text/html:<!DOCTYPE HTML PUBLIC "-//W3C//DTD HTML 3.2//EN">\n<HTML>\n<HEAD>\n<META NAME="Generator" CONTENT="MS Exchange Server version 08.00.0681.000">\n<TITLE></TITLE>\n</HEAD>\n<BODY>\n<!-- Converted from text/rtf format -->\n\n в Москве начало работу очередное Заседание Совета улемов Духовного управления мусульман Российской Федерации (далее ДУМ РФ). В нем примут участие представители централизованных региональных духовных управлений, входящих в состав ДУМ РФ. По традиции работа заседания будет представлена в двух форматах: практическом и теоретическом. Так, 19 сентября для членов Совета стартовал курс повышения квалификации на тему “Основы теории и методологии исламского права (усул ал-фикх)”. Лекции в течение трех дней будет читать руководитель отдела фетв Главного управления по фетвам Египта, доктор, шейх Ахмад Мамдух. В рамках рабочей сессии члены Совета рассмотрят и примут решение по богословскому заключению «Кешбэк – между дозволенностью и запретом в исламе». С докладом на эту тему 20 сентября выступит член Совета улемов ДУМ РФ Елена (Марьям) Ковалева. Также 21 сентября запланировано обсуждение внесенных правок в фетву «Расторжение брака в органах ЗАГС или гражданском суде по инициативе жены». О ходе заседания и принятых решениях будет объявлено дополнительно. Важно отметить, что на этой неделе 22-23 сентября в Москве пройдет ежегодный Пленум Духовного управления мусульман РФ с участием муфтиев, имам-мухтасибов, председателей централизованных мусульманских организаций и местных общин из большинства регионов России. В рамках данного мероприятия также пройдут: – XV Международная теологическая научно-образовательная конференция «Чтения имени Галимджана Баруди», – I Международный симпозиум по изданию фетв в России «Институты фетв и их роль в решении социальных проблем», – Выставка Коранов «Калям Шариф – Великое наследие», – Открытие обновленного здания Московского исламского института.. \n\n</BODY>\n</HTML>

LOCATION:
END:VEVENT

END:VCALENDAR
