BEGIN:VCALENDAR
VERSION:2.0
PRODID:-//hacksw/handcal//NONSGML v1.0//EN
BEGIN:VEVENT
UID:9f960a0eb8554dfd0542d8bac1500e9c
DTSTAMP:20260421T084847Z

DTSTART:20221128T000000
DTEND:20221129T235959
SUMMARY:В Казани завершила свою работу Международная научно-практическая конференция «Инновационные технологии в совершенствовании учебного процесса в мусульманских учебных заведениях». 
DESCRIPTION:В Казани завершила свою работу Международная научно-практическая конференция «Инновационные технологии в совершенствовании учебного процесса в мусульманских учебных заведениях». Форум был организован Российским исламским университетом и Казанским федеральным университетом.  Конференция была проведена в рамках мероприятий, посвященных 15-летию РИИ. В первой половине дня собравшиеся заслушали доклады именитых гостей из стран арабского мира. В частности, ректор Палестинского отделения университета Аль-Азхар Исмаиль Бульбуль выступил с сообщением «Разработка учебных программ высших учебных заведений в соответствии с инновационными технологиями». Оказалось, что 20 лет назад, когда получившие распространение компьютеры и интернет начали применяться в процессе обучения, некоторые преподаватели высказывали мнение о запретности новых технологий. «Они остались в прошлом, а успеха добились те, кто начал активно применять эти технологии», - отметил шейх Бульбуль. Среди плюсов всеобщей информатизации он отметил тот факт, что образование, например, в его дистанционной форме, стало гораздо более доступным широким слоям населения. В качестве же отрицательной стороны процесса было отмечено появление большого количества плагиата, когда обучающийся присваивает себе чей-то опубликованный в сети труд или отдельную мысль или гипотезу. «Сейчас уже трудно поверить, что было время, когда я четырежды летал в Турцию только для того, чтобы получить необходимую книгу», - вспоминает Исмаиль Бульбуль. Был также озвучен малоизвестный факт о том, что богатые страны арабского мира спонсируют выпуск компьютеров в разных частях света. Подводя итог своему выступлению, ректор Палестинского отделения «Аль Азхара» напомнил собравшимся, что мусульманам запретно отдаление от этого мира, и потому необходимо пользоваться современными технологиями, разумно применяя их в традиционном для последователей ислама постоянном поиске знаний.\n\n

X-ALT-DESC;FMTTYPE=text/html:<!DOCTYPE HTML PUBLIC "-//W3C//DTD HTML 3.2//EN">\n<HTML>\n<HEAD>\n<META NAME="Generator" CONTENT="MS Exchange Server version 08.00.0681.000">\n<TITLE></TITLE>\n</HEAD>\n<BODY>\n<!-- Converted from text/rtf format -->\n\nВ Казани завершила свою работу Международная научно-практическая конференция «Инновационные технологии в совершенствовании учебного процесса в мусульманских учебных заведениях». Форум был организован Российским исламским университетом и Казанским федеральным университетом.  Конференция была проведена в рамках мероприятий, посвященных 15-летию РИИ. В первой половине дня собравшиеся заслушали доклады именитых гостей из стран арабского мира. В частности, ректор Палестинского отделения университета Аль-Азхар Исмаиль Бульбуль выступил с сообщением «Разработка учебных программ высших учебных заведений в соответствии с инновационными технологиями». Оказалось, что 20 лет назад, когда получившие распространение компьютеры и интернет начали применяться в процессе обучения, некоторые преподаватели высказывали мнение о запретности новых технологий. «Они остались в прошлом, а успеха добились те, кто начал активно применять эти технологии», - отметил шейх Бульбуль. Среди плюсов всеобщей информатизации он отметил тот факт, что образование, например, в его дистанционной форме, стало гораздо более доступным широким слоям населения. В качестве же отрицательной стороны процесса было отмечено появление большого количества плагиата, когда обучающийся присваивает себе чей-то опубликованный в сети труд или отдельную мысль или гипотезу. «Сейчас уже трудно поверить, что было время, когда я четырежды летал в Турцию только для того, чтобы получить необходимую книгу», - вспоминает Исмаиль Бульбуль. Был также озвучен малоизвестный факт о том, что богатые страны арабского мира спонсируют выпуск компьютеров в разных частях света. Подводя итог своему выступлению, ректор Палестинского отделения «Аль Азхара» напомнил собравшимся, что мусульманам запретно отдаление от этого мира, и потому необходимо пользоваться современными технологиями, разумно применяя их в традиционном для последователей ислама постоянном поиске знаний.<br /><br />\n\n</BODY>\n</HTML>

LOCATION:
END:VEVENT

END:VCALENDAR
