BEGIN:VCALENDAR
VERSION:2.0
PRODID:-//hacksw/handcal//NONSGML v1.0//EN
BEGIN:VEVENT
UID:3b7c2d25f12149c481507dc14b97281f
DTSTAMP:20260419T152350Z

DTSTART:20230113T000000
DTEND:20230113T000000
SUMMARY:Арабский язык изучение букв
DESCRIPTION:онлайн занятие по арабскому языку

X-ALT-DESC;FMTTYPE=text/html:<!DOCTYPE HTML PUBLIC "-//W3C//DTD HTML 3.2//EN">\n<HTML>\n<HEAD>\n<META NAME="Generator" CONTENT="MS Exchange Server version 08.00.0681.000">\n<TITLE></TITLE>\n</HEAD>\n<BODY>\n<!-- Converted from text/rtf format -->\n\nонлайн занятие по арабскому языку\n\n</BODY>\n</HTML>

LOCATION:
END:VEVENT

END:VCALENDAR
