BEGIN:VCALENDAR
VERSION:2.0
PRODID:-//hacksw/handcal//NONSGML v1.0//EN
BEGIN:VEVENT
UID:9d6698c35b6269745f7ffeb9c4758c02
DTSTAMP:20260419T153627Z

DTSTART:20240531T000000
DTEND:20240531T000000
SUMMARY:Собрание православных жителей Малокарачаевского района на тему открытия православного прихода
DESCRIPTION:Объдинение православных единомышленников  в целях организации волотнерского движения в помощь нуждающимся семьям Донецкой республики

X-ALT-DESC;FMTTYPE=text/html:<!DOCTYPE HTML PUBLIC "-//W3C//DTD HTML 3.2//EN">\n<HTML>\n<HEAD>\n<META NAME="Generator" CONTENT="MS Exchange Server version 08.00.0681.000">\n<TITLE></TITLE>\n</HEAD>\n<BODY>\n<!-- Converted from text/rtf format -->\n\nОбъдинение православных единомышленников  в целях организации волотнерского движения в помощь нуждающимся семьям Донецкой республики\n\n</BODY>\n</HTML>

LOCATION:
END:VEVENT

END:VCALENDAR
