BEGIN:VCALENDAR
VERSION:2.0
PRODID:-//hacksw/handcal//NONSGML v1.0//EN
BEGIN:VEVENT
UID:790270058130aaf022fc602fee289ebc
DTSTAMP:20260421T084715Z

DTSTART:20240308T180000
DTEND:20240308T180000
SUMMARY:Проповедь в центральной мечети г. Нальчика 08.03.24 Тема: «Приблизился Рамадан» Имам хатыб: Андзор Емкужев
DESCRIPTION:Проповедь в центральной мечети г. Нальчика 08.03.24 Тема: «Приблизился Рамадан» Имам хатыб: Андзор Емкужев

X-ALT-DESC;FMTTYPE=text/html:<!DOCTYPE HTML PUBLIC "-//W3C//DTD HTML 3.2//EN">\n<HTML>\n<HEAD>\n<META NAME="Generator" CONTENT="MS Exchange Server version 08.00.0681.000">\n<TITLE></TITLE>\n</HEAD>\n<BODY>\n<!-- Converted from text/rtf format -->\n\nПроповедь в центральной мечети г. Нальчика 08.03.24 Тема: «Приблизился Рамадан» Имам хатыб: Андзор Емкужев\n\n</BODY>\n</HTML>

LOCATION:
END:VEVENT

END:VCALENDAR
