BEGIN:VCALENDAR
VERSION:2.0
PRODID:-//hacksw/handcal//NONSGML v1.0//EN
BEGIN:VEVENT
UID:3777cc8515467c8c4e676d8234f5b066
DTSTAMP:20260421T084310Z

DTSTART:20220731T000000
DTEND:20220731T000000
SUMMARY:Конференция 
DESCRIPTION:Священный месяц Рамадан уже позади, но, как подчеркнул Председатель Духовного управления мусульман КЧР Исмаил-хаджи Бердиев, это не повод прекращать делать благие дела и заниматься благотворительностью.\n\nПредседатель Координационного центра мусульман Северного Кавказа поздравил мусульман республики со светлым праздником Ураза-байрам, напомнил, что Священный Рамадан был месяцем духовного очищения и призвал верующих проявлять больше смирения, уважать и любить друг друга.

X-ALT-DESC;FMTTYPE=text/html:<!DOCTYPE HTML PUBLIC "-//W3C//DTD HTML 3.2//EN">\n<HTML>\n<HEAD>\n<META NAME="Generator" CONTENT="MS Exchange Server version 08.00.0681.000">\n<TITLE></TITLE>\n</HEAD>\n<BODY>\n<!-- Converted from text/rtf format -->\n\nСвященный месяц Рамадан уже позади, но, как подчеркнул Председатель Духовного управления мусульман КЧР Исмаил-хаджи Бердиев, это не повод прекращать делать благие дела и заниматься благотворительностью.<br /><br />Председатель Координационного центра мусульман Северного Кавказа поздравил мусульман республики со светлым праздником Ураза-байрам, напомнил, что Священный Рамадан был месяцем духовного очищения и призвал верующих проявлять больше смирения, уважать и любить друг друга.\n\n</BODY>\n</HTML>

LOCATION:
END:VEVENT

END:VCALENDAR
