BEGIN:VCALENDAR
VERSION:2.0
PRODID:-//hacksw/handcal//NONSGML v1.0//EN
BEGIN:VEVENT
UID:7fa7c675f11dc182791722570bd6a1a1
DTSTAMP:20260419T122058Z

DTSTART:20221105T000000
DTEND:20221105T144500
SUMMARY:Видеоконференция
DESCRIPTION:С субботу состоится видеоконференция для участия пройдите,пожалуйста по ссылке  https://nacobr.webinar.ru/signin 

X-ALT-DESC;FMTTYPE=text/html:<!DOCTYPE HTML PUBLIC "-//W3C//DTD HTML 3.2//EN">\n<HTML>\n<HEAD>\n<META NAME="Generator" CONTENT="MS Exchange Server version 08.00.0681.000">\n<TITLE></TITLE>\n</HEAD>\n<BODY>\n<!-- Converted from text/rtf format -->\n\nС субботу состоится видеоконференция для участия пройдите,пожалуйста по ссылке  https://nacobr.webinar.ru/signin \n\n</BODY>\n</HTML>

LOCATION:
END:VEVENT

END:VCALENDAR
